BEGIN:VCALENDAR
VERSION:2.0
PRODID:-//specialolympicsnd.org//NONSGML kigkonsult.se iCalcreator 2.30.10/
 /
CALSCALE:GREGORIAN
METHOD:PUBLISH
UID:8c2f9e20-3d2d-4f02-b2bb-440da55d3438
X-WR-CALDESC:Sports include: Athletics\, Swimming\, and Volleyball
X-WR-RELCALID:df66dde46de7d9add0781d3ed75006c4
X-WR-TIMEZONE:America/Chicago
BEGIN:VTIMEZONE
TZID:America/Chicago
BEGIN:STANDARD
TZNAME:CST
DTSTART:20161106T020000
TZOFFSETFROM:-0500
TZOFFSETTO:-0600
RDATE:20171105T020000
RDATE:20181104T020000
END:STANDARD
BEGIN:DAYLIGHT
TZNAME:CDT
DTSTART:20170312T020000
TZOFFSETFROM:-0600
TZOFFSETTO:-0500
RDATE:20180311T020000
END:DAYLIGHT
END:VTIMEZONE
BEGIN:VEVENT
UID:a36c717f-36a0-4654-bd57-82b8d3d01b99
DTSTAMP:20260423T031210Z
DESCRIPTION:Sports include: Athletics\, Swimming\, and Volleyball
DTSTART;TZID=America/Chicago:20170506T000000
DTEND;TZID=America/Chicago:20170506T235900
LOCATION:Magic City Campus - Minot\, ND
SUMMARY:District I Spring Games
END:VEVENT
END:VCALENDAR
