BEGIN:VCALENDAR
VERSION:2.0
PRODID:-//specialolympicsnd.org//NONSGML kigkonsult.se iCalcreator 2.30.10/
 /
CALSCALE:GREGORIAN
METHOD:PUBLISH
UID:e6aa96bc-f9c9-4c05-866f-32e621b7c9f6
X-WR-CALDESC:Sports include: Athletics
X-WR-RELCALID:ed7c6911628c7939a514d38af12b4940
X-WR-TIMEZONE:America/Chicago
BEGIN:VTIMEZONE
TZID:America/Chicago
BEGIN:STANDARD
TZNAME:CST
DTSTART:20161106T020000
TZOFFSETFROM:-0500
TZOFFSETTO:-0600
RDATE:20171105T020000
END:STANDARD
BEGIN:DAYLIGHT
TZNAME:CDT
DTSTART:20170312T020000
TZOFFSETFROM:-0600
TZOFFSETTO:-0500
RDATE:20180311T020000
END:DAYLIGHT
END:VTIMEZONE
BEGIN:VEVENT
UID:c102e55e-1a77-44af-9c20-0339f57d0b71
DTSTAMP:20260423T031439Z
DESCRIPTION:Sports include: Athletics
DTSTART;TZID=America/Chicago:20170429T000000
DTEND;TZID=America/Chicago:20170429T235900
LOCATION:East Grand Forks Middle School\, East Grand Forks\, MN
SUMMARY:District II - Track & Field Tournament
END:VEVENT
END:VCALENDAR
