BEGIN:VCALENDAR
VERSION:2.0
PRODID:-//specialolympicsnd.org//NONSGML kigkonsult.se iCalcreator 2.30.10/
 /
CALSCALE:GREGORIAN
METHOD:PUBLISH
UID:63da3f59-7a1a-4db2-86f0-eb88ed55a33f
X-WR-CALDESC:Special Olympics North Dakota will be offering a Bocce Coaches
  Clinic session to educate our volunteer coaches on bocce skills\, bocce r
 ules\, and how to organize a bocce practice.
X-WR-RELCALID:88f5a7140899a95f6ad74fba89e76745
X-WR-TIMEZONE:America/Chicago
BEGIN:VTIMEZONE
TZID:America/Chicago
BEGIN:STANDARD
TZNAME:CST
DTSTART:20161106T020000
TZOFFSETFROM:-0500
TZOFFSETTO:-0600
RDATE:20171105T020000
END:STANDARD
BEGIN:DAYLIGHT
TZNAME:CDT
DTSTART:20170312T020000
TZOFFSETFROM:-0600
TZOFFSETTO:-0500
RDATE:20180311T020000
END:DAYLIGHT
END:VTIMEZONE
BEGIN:VEVENT
UID:c429a134-1373-4966-a615-6d9faf5d59db
DTSTAMP:20260423T031245Z
DESCRIPTION:Special Olympics North Dakota will be offering a Bocce Coaches 
 Clinic session to educate our volunteer coaches on bocce skills\, bocce ru
 les\, and how to organize a bocce practice.
DTSTART;TZID=America/Chicago:20170423T110000
DTEND;TZID=America/Chicago:20170423T140000
LOCATION:Shiloh Christian School\, 1915 Shiloh Dr\, Bismarck\, ND
SUMMARY:Coaches Clinic - Bocce
END:VEVENT
END:VCALENDAR
