BEGIN:VCALENDAR
VERSION:2.0
PRODID:-//specialolympicsnd.org//NONSGML kigkonsult.se iCalcreator 2.30.10/
 /
CALSCALE:GREGORIAN
METHOD:PUBLISH
UID:f4ff2b36-be5d-4f79-bb0a-7d043c0d519c
X-WR-CALDESC:Tickets: $6.00\; Children 4 years old & under eat free\nTicket
 s can also be purchased at all Hornbacher's locations in the Fargo/Moorhea
 d area.
X-WR-RELCALID:3cbe19763be326146b4ab6f1ed638f03
X-WR-TIMEZONE:America/Chicago
BEGIN:VTIMEZONE
TZID:America/Chicago
BEGIN:STANDARD
TZNAME:CST
DTSTART:20161106T020000
TZOFFSETFROM:-0500
TZOFFSETTO:-0600
RDATE:20171105T020000
END:STANDARD
BEGIN:DAYLIGHT
TZNAME:CDT
DTSTART:20170312T020000
TZOFFSETFROM:-0600
TZOFFSETTO:-0500
RDATE:20180311T020000
END:DAYLIGHT
END:VTIMEZONE
BEGIN:VEVENT
UID:4581db1b-7135-4585-aa24-f95011112cbb
DTSTAMP:20260423T031305Z
DESCRIPTION:Tickets: $6.00\; Children 4 years old & under eat free\nTickets
  can also be purchased at all Hornbacher's locations in the Fargo/Moorhead
  area.
DTSTART;TZID=America/Chicago:20170422T083000
DTEND;TZID=America/Chicago:20170422T143000
LOCATION:Hope Lutheran Church\, 2900 North Broadway\, Fargo
SUMMARY:Pancake Breakfast - Fargo
END:VEVENT
END:VCALENDAR
