BEGIN:VCALENDAR
VERSION:2.0
PRODID:-//specialolympicsnd.org//NONSGML kigkonsult.se iCalcreator 2.30.10/
 /
CALSCALE:GREGORIAN
METHOD:PUBLISH
UID:dff7a5d5-befc-4eaf-9fd7-db4039b32195
X-WR-CALDESC:Special Olympics North Dakota will be offering a Bocce Coaches
  Clinic session to educate our volunteer coaches on bocce skills\, bocce r
 ules\, and how to organize a bocce practice.
X-WR-RELCALID:f4273d3780c1cb060c20e0be82225019
X-WR-TIMEZONE:America/Chicago
BEGIN:VTIMEZONE
TZID:America/Chicago
BEGIN:STANDARD
TZNAME:CST
DTSTART:20161106T020000
TZOFFSETFROM:-0500
TZOFFSETTO:-0600
RDATE:20171105T020000
END:STANDARD
BEGIN:DAYLIGHT
TZNAME:CDT
DTSTART:20170312T020000
TZOFFSETFROM:-0600
TZOFFSETTO:-0500
RDATE:20180311T020000
END:DAYLIGHT
END:VTIMEZONE
BEGIN:VEVENT
UID:ca46e303-9a18-4257-8377-b0fa57d86f10
DTSTAMP:20260423T031306Z
DESCRIPTION:Special Olympics North Dakota will be offering a Bocce Coaches 
 Clinic session to educate our volunteer coaches on bocce skills\, bocce ru
 les\, and how to organize a bocce practice.
DTSTART;TZID=America/Chicago:20170422T110000
DTEND;TZID=America/Chicago:20170422T140000
LOCATION:Tri-City Soccer\, 1401 N 5th St\, Fargo\, ND
SUMMARY:Coaches Clinic - Bocce
END:VEVENT
END:VCALENDAR
