BEGIN:VCALENDAR
VERSION:2.0
PRODID:-//specialolympicsnd.org//NONSGML kigkonsult.se iCalcreator 2.30.10/
 /
CALSCALE:GREGORIAN
METHOD:PUBLISH
UID:c5bd6fe8-d3e9-4760-8b70-c046744d86c5
X-WR-CALDESC:The Polar Plunge is an annual fundraiser organized by communit
 y volunteers and is part of the year-round Law Enforcement Torch Run progr
 am to raise awareness and funds to support physical tness and athletic com
 petition for children and adults with intellectual disabilities. Polar Plu
 nges offer a unique opportunity for individuals\, organizations\, and busi
 nesses to support Special Olympics athletes by raising money and taking th
 e plunge into chilly North Dakota waters.\nPlungers raise a minimum of $75
  for the opportunity to take the plunge. Have FUN! Form a team\, come up w
 ith a fun name and crazy costumes with friends\, co-workers\, or classmate
 s. No matter what\, the Polar Plunge is all about FUN!\n\nSchedule:\nRegis
 tration - 11:00 am - 12:30 pm\nPlunge - 12:30 pm\n\nREGISTER TODAY!\nSteps
  to become a successful plunger!\n\nPLUNGER TOOL KIT!\nClick here to view 
 the tool kit: http://bit.ly/SONDPlungerTools17\n\n1. Pre-Register for the 
 Plunge online! Visit\nhttp://www.firstgiving.com/sond/2017-minot-polar-plu
 nge\nYou can also complete and send in the registration brochure found her
 e (http://bit.ly/SONDPlungerTools17)\, or call SOND at 701-746-0331.\n2. E
 ach plunger must collect or contribute a minimum of $75 in order to take t
 he plunge.\n3. Upon completing registration\, you have the option to creat
 e a First Giving fundraising page to begin soliciting pledges. The link ca
 n be found at www.firstgiving.com/sond.\n4. Bring your signed waiver\, ple
 dges\, and pledge forms with you to the plunge.\n5. Invite everyone you kn
 ow to come watch you TAKE THE PLUNGE while supporting SOND.
X-WR-RELCALID:cf46f3b88b39cb9b5c80911b1a0bd5f2
X-WR-TIMEZONE:America/Chicago
BEGIN:VTIMEZONE
TZID:America/Chicago
BEGIN:STANDARD
TZNAME:CST
DTSTART:20161106T020000
TZOFFSETFROM:-0500
TZOFFSETTO:-0600
RDATE:20171105T020000
END:STANDARD
BEGIN:DAYLIGHT
TZNAME:CDT
DTSTART:20170312T020000
TZOFFSETFROM:-0600
TZOFFSETTO:-0500
RDATE:20180311T020000
END:DAYLIGHT
END:VTIMEZONE
BEGIN:VEVENT
UID:dfe62b01-f7da-4325-8056-85cfaffad445
DTSTAMP:20260423T031343Z
DESCRIPTION:The Polar Plunge is an annual fundraiser organized by community
  volunteers and is part of the year-round Law Enforcement Torch Run progra
 m to raise awareness and funds to support physical tness and athletic comp
 etition for children and adults with intellectual disabilities. Polar Plun
 ges offer a unique opportunity for individuals\, organizations\, and busin
 esses to support Special Olympics athletes by raising money and taking the
  plunge into chilly North Dakota waters.\nPlungers raise a minimum of $75 
 for the opportunity to take the plunge. Have FUN! Form a team\, come up wi
 th a fun name and crazy costumes with friends\, co-workers\, or classmates
 . No matter what\, the Polar Plunge is all about FUN!\n\nSchedule:\nRegist
 ration - 11:00 am - 12:30 pm\nPlunge - 12:30 pm\n\nREGISTER TODAY!\nSteps 
 to become a successful plunger!\n\nPLUNGER TOOL KIT!\nClick here to view t
 he tool kit: http://bit.ly/SONDPlungerTools17\n\n1. Pre-Register for the P
 lunge online! Visit\nhttp://www.firstgiving.com/sond/2017-minot-polar-plun
 ge\nYou can also complete and send in the registration brochure found here
  (http://bit.ly/SONDPlungerTools17)\, or call SOND at 701-746-0331.\n2. Ea
 ch plunger must collect or contribute a minimum of $75 in order to take th
 e plunge.\n3. Upon completing registration\, you have the option to create
  a First Giving fundraising page to begin soliciting pledges. The link can
  be found at www.firstgiving.com/sond.\n4. Bring your signed waiver\, pled
 ges\, and pledge forms with you to the plunge.\n5. Invite everyone you kno
 w to come watch you TAKE THE PLUNGE while supporting SOND.
DTSTART;TZID=America/Chicago:20170401T110000
DTEND;TZID=America/Chicago:20170401T143000
LOCATION:Sleep Inn - Minot\, ND
SUMMARY:Minot Polar Plunge
END:VEVENT
END:VCALENDAR
