BEGIN:VCALENDAR
VERSION:2.0
PRODID:-//specialolympicsnd.org//NONSGML kigkonsult.se iCalcreator 2.30.10/
 /
CALSCALE:GREGORIAN
METHOD:PUBLISH
UID:cfe44e9f-8a11-4f2b-aab0-c3b7047b39b8
X-WR-CALDESC:The Special Olympics World Winter Games will return to Austria
 \, host of the 1993 Special Olympics World Winter Games. The Games will be
  held from March 18-24\, 2017.  Three thousand athletes representing 100 n
 ations will compete in nine sports during the week-long event with the Ope
 ning Ceremony in Schladming on March 18. \n\n\nFour athletes from North Da
 kota have been selected to represent the Special Olympics USA.  Athletes i
 nclude Christy Coughlin\, Minot-Snowshoeing\; Wade Wintermeyer\, Jamestown
 -Snowshoeing\; Dave Johs\, Bismarck-Cross-Country Skiing\; and Katielynn O
 vitt\, Bottineau-Alpine Skiing.  Cindy Schopper of Valley City is an assis
 tant Snowshoe coach\, Dr. Julie Blehm is on the Special Olympics USA medic
 al team and Kathleen Meagher\, SOND President and CEO is the Family Coordi
 nator for Special Olympics USA.  Kevin Arthaud of Bismarck will represent 
 the Law Enforcement Torch Run team running in the Final Leg. The team will
  carry the Flame of Hope through 45 cities\, towns and communities across 
 Austria culminating at the Opening Ceremony of the Games.
X-WR-RELCALID:77efeb44d429717c18e041c0d6210791
X-WR-TIMEZONE:America/Chicago
BEGIN:VTIMEZONE
TZID:America/Chicago
BEGIN:STANDARD
TZNAME:CST
DTSTART:20161106T020000
TZOFFSETFROM:-0500
TZOFFSETTO:-0600
RDATE:20171105T020000
END:STANDARD
BEGIN:DAYLIGHT
TZNAME:CDT
DTSTART:20170312T020000
TZOFFSETFROM:-0600
TZOFFSETTO:-0500
RDATE:20180311T020000
END:DAYLIGHT
END:VTIMEZONE
BEGIN:VEVENT
UID:372347b4-787e-4600-b19e-ff53836eaca7
DTSTAMP:20260423T031342Z
DESCRIPTION:The Special Olympics World Winter Games will return to Austria\
 , host of the 1993 Special Olympics World Winter Games. The Games will be 
 held from March 18-24\, 2017.  Three thousand athletes representing 100 na
 tions will compete in nine sports during the week-long event with the Open
 ing Ceremony in Schladming on March 18. \n\n\nFour athletes from North Dak
 ota have been selected to represent the Special Olympics USA.  Athletes in
 clude Christy Coughlin\, Minot-Snowshoeing\; Wade Wintermeyer\, Jamestown-
 Snowshoeing\; Dave Johs\, Bismarck-Cross-Country Skiing\; and Katielynn Ov
 itt\, Bottineau-Alpine Skiing.  Cindy Schopper of Valley City is an assist
 ant Snowshoe coach\, Dr. Julie Blehm is on the Special Olympics USA medica
 l team and Kathleen Meagher\, SOND President and CEO is the Family Coordin
 ator for Special Olympics USA.  Kevin Arthaud of Bismarck will represent t
 he Law Enforcement Torch Run team running in the Final Leg. The team will 
 carry the Flame of Hope through 45 cities\, towns and communities across A
 ustria culminating at the Opening Ceremony of the Games.
DTSTART;TZID=America/Chicago:20170318T000000
DTEND;TZID=America/Chicago:20170325T235900
LOCATION:Austria
SUMMARY:World Winter Games 2017
END:VEVENT
END:VCALENDAR
