BEGIN:VCALENDAR
VERSION:2.0
PRODID:-//specialolympicsnd.org//NONSGML kigkonsult.se iCalcreator 2.30.10/
 /
CALSCALE:GREGORIAN
METHOD:PUBLISH
UID:74cf5454-9572-4c05-b9d5-2983815b7885
X-WR-CALDESC:The Polar Plunge is an annual fundraiser organized by communit
 y volunteers and is part of the year-round Law Enforcement Torch Run progr
 am to raise awareness and funds to support physical  tness and athletic co
 mpetition for children and adults with intellectual disabilities. Polar Pl
 unges o er a unique opportunity for individuals\, organizations\, and busi
 nesses to support Special Olympics athletes by raising money and taking th
 e plunge into chilly North Dakota waters.\nPlungers raise a minimum of $75
  for the opportunity to take the plunge. Have FUN! Form a team\, come up w
 ith a fun name and crazy costumes with friends\, co-workers\, or classmate
 s. No matter what\, the Polar Plunge is all about FUN!
X-WR-RELCALID:cc08eed3030407547c3b15fa4bdc8063
X-WR-TIMEZONE:America/Chicago
BEGIN:VTIMEZONE
TZID:America/Chicago
BEGIN:STANDARD
TZNAME:CST
DTSTART:20161106T020000
TZOFFSETFROM:-0500
TZOFFSETTO:-0600
RDATE:20171105T020000
END:STANDARD
BEGIN:DAYLIGHT
TZNAME:CDT
DTSTART:20160313T020000
TZOFFSETFROM:-0600
TZOFFSETTO:-0500
RDATE:20170312T020000
RDATE:20180311T020000
END:DAYLIGHT
END:VTIMEZONE
BEGIN:VEVENT
UID:b58b49ae-051b-480b-a746-ce173c6f6f2b
DTSTAMP:20260423T031358Z
DESCRIPTION:The Polar Plunge is an annual fundraiser organized by community
  volunteers and is part of the year-round Law Enforcement Torch Run progra
 m to raise awareness and funds to support physical  tness and athletic com
 petition for children and adults with intellectual disabilities. Polar Plu
 nges o er a unique opportunity for individuals\, organizations\, and busin
 esses to support Special Olympics athletes by raising money and taking the
  plunge into chilly North Dakota waters.\nPlungers raise a minimum of $75 
 for the opportunity to take the plunge. Have FUN! Form a team\, come up wi
 th a fun name and crazy costumes with friends\, co-workers\, or classmates
 . No matter what\, the Polar Plunge is all about FUN!
DTSTART;TZID=America/Chicago:20170225T123000
DTEND;TZID=America/Chicago:20170225T143000
LOCATION:Choice Health & Fitness\, Grand Forks\, ND
SUMMARY:2017 Grand Forks Polar Plunge
END:VEVENT
END:VCALENDAR
