BEGIN:VCALENDAR
VERSION:2.0
PRODID:-//specialolympicsnd.org//NONSGML kigkonsult.se iCalcreator 2.30.10/
 /
CALSCALE:GREGORIAN
METHOD:PUBLISH
UID:45b8488d-5e78-4e46-a262-43fb4ec5c1b1
X-WR-CALDESC:The Polar Plunge is an annual fundraiser organized by communit
 y volunteers and is part of the year-round Law Enforcement Torch Run progr
 am to raise awareness and funds to support physical tness and athletic com
 petition for children and adults with intellectual disabilities. Polar Plu
 nges offer a unique opportunity for individuals\, organizations\, and busi
 nesses to support Special Olympics athletes by raising money and taking th
 e plunge into chilly North Dakota waters.\nPlungers raise a minimum of $75
  for the opportunity to take the plunge. Have FUN! Form a team\, come up w
 ith a fun name and crazy costumes with friends\, co-workers\, or classmate
 s. No matter what\, the Polar Plunge is all about FUN!\n\nSchedule:\nRegis
 tration - 2:30 pm - 4:00 pm\nPlunge - 4:00 pm\n\nREGISTER TODAY!\nSteps to
  become a successful plunger!\n\nPLUNGER TOOL KIT!\nClick here to view the
  tool kit: http://bit.ly/SONDPlungerTools17\n\n1. Pre-Register for the Plu
 nge online! Visit\nhttp://www.firstgiving.com/sond/2017-bismarck-polar-plu
 nge\nYou can also complete and send in the registration brochure found her
 e (http://bit.ly/SONDPlungerTools17)\, or call SOND at 701-746-0331.\n2. E
 ach plunger must collect or contribute a minimum of $75 in order to take t
 he plunge.\n3. Upon completing registration\, you have the option to creat
 e a First Giving fundraising page to begin soliciting pledges. The link ca
 n be found at www.firstgiving.com/sond.\n4. Bring your signed waiver\, ple
 dges\, and pledge forms with you to the plunge.\n5. Invite everyone you kn
 ow to come watch you TAKE THE PLUNGE while supporting SOND.
X-WR-RELCALID:f6a77a1893008de316c0a959a247b794
X-WR-TIMEZONE:America/Chicago
BEGIN:VTIMEZONE
TZID:America/Chicago
BEGIN:STANDARD
TZNAME:CST
DTSTART:20161106T020000
TZOFFSETFROM:-0500
TZOFFSETTO:-0600
RDATE:20171105T020000
END:STANDARD
BEGIN:DAYLIGHT
TZNAME:CDT
DTSTART:20160313T020000
TZOFFSETFROM:-0600
TZOFFSETTO:-0500
RDATE:20170312T020000
RDATE:20180311T020000
END:DAYLIGHT
END:VTIMEZONE
BEGIN:VEVENT
UID:5d8d003d-8e02-4baa-b5a6-f3130206440e
DTSTAMP:20260423T031434Z
DESCRIPTION:The Polar Plunge is an annual fundraiser organized by community
  volunteers and is part of the year-round Law Enforcement Torch Run progra
 m to raise awareness and funds to support physical tness and athletic comp
 etition for children and adults with intellectual disabilities. Polar Plun
 ges offer a unique opportunity for individuals\, organizations\, and busin
 esses to support Special Olympics athletes by raising money and taking the
  plunge into chilly North Dakota waters.\nPlungers raise a minimum of $75 
 for the opportunity to take the plunge. Have FUN! Form a team\, come up wi
 th a fun name and crazy costumes with friends\, co-workers\, or classmates
 . No matter what\, the Polar Plunge is all about FUN!\n\nSchedule:\nRegist
 ration - 2:30 pm - 4:00 pm\nPlunge - 4:00 pm\n\nREGISTER TODAY!\nSteps to 
 become a successful plunger!\n\nPLUNGER TOOL KIT!\nClick here to view the 
 tool kit: http://bit.ly/SONDPlungerTools17\n\n1. Pre-Register for the Plun
 ge online! Visit\nhttp://www.firstgiving.com/sond/2017-bismarck-polar-plun
 ge\nYou can also complete and send in the registration brochure found here
  (http://bit.ly/SONDPlungerTools17)\, or call SOND at 701-746-0331.\n2. Ea
 ch plunger must collect or contribute a minimum of $75 in order to take th
 e plunge.\n3. Upon completing registration\, you have the option to create
  a First Giving fundraising page to begin soliciting pledges. The link can
  be found at www.firstgiving.com/sond.\n4. Bring your signed waiver\, pled
 ges\, and pledge forms with you to the plunge.\n5. Invite everyone you kno
 w to come watch you TAKE THE PLUNGE while supporting SOND.
DTSTART;TZID=America/Chicago:20170225T143000
DTEND;TZID=America/Chicago:20170225T180000
LOCATION:Bismarck/Mandan Elks Lodge #1199\, Bismarck
SUMMARY:2017 Bismarck Polar Plunge
END:VEVENT
END:VCALENDAR
