BEGIN:VCALENDAR
VERSION:2.0
PRODID:-//specialolympicsnd.org//NONSGML kigkonsult.se iCalcreator 2.30.10/
 /
CALSCALE:GREGORIAN
METHOD:PUBLISH
UID:92a9f855-68e0-4c09-90a2-bf225f207dbd
X-WR-CALDESC:We're in. Are you?\nIt's North Dakota's best tasting fundraise
 r!\n\nEleven special restaurants teamed up to help Special Olympics ND rai
 se money to send Team North Dakota to the 2017 World Winter Games in Austr
 ia this March!\n\nSelect restaurants will support the athletes of Special 
 Olympics North Dakota on Tuesday\, February 21 by donating a percentage of
  sales. Participating restaurants include:\nBismarck - Pirogue Grille\nDev
 ils Lake - Ranch Steak House\nDickinson - BrickHouse Grille\nEast Grand Fo
 rks - Blue Moose Bar & Grill\nFargo - The Boiler Room\nGrafton - Marketpla
 ce on 8th\nGrand Forks - Sky's Fine Dining\nJamestown - The Depot Cafe \nM
 inot - 10 North Main\nValley City - City Lights Supper Club\nWahpeton - Pr
 antes's\n\nPlan 'A Special Night Out' on February 21st and enjoy a great m
 eal for a great cause!
X-WR-RELCALID:96b520c16667059f55b1bbce5596a433
X-WR-TIMEZONE:America/Chicago
BEGIN:VTIMEZONE
TZID:America/Chicago
BEGIN:STANDARD
TZNAME:CST
DTSTART:20161106T020000
TZOFFSETFROM:-0500
TZOFFSETTO:-0600
RDATE:20171105T020000
END:STANDARD
BEGIN:DAYLIGHT
TZNAME:CDT
DTSTART:20160313T020000
TZOFFSETFROM:-0600
TZOFFSETTO:-0500
RDATE:20170312T020000
RDATE:20180311T020000
END:DAYLIGHT
END:VTIMEZONE
BEGIN:VEVENT
UID:f5afe7b8-7c8e-4c2b-bb0d-0d673fba2b28
DTSTAMP:20260423T031216Z
DESCRIPTION:We're in. Are you?\nIt's North Dakota's best tasting fundraiser
 !\n\nEleven special restaurants teamed up to help Special Olympics ND rais
 e money to send Team North Dakota to the 2017 World Winter Games in Austri
 a this March!\n\nSelect restaurants will support the athletes of Special O
 lympics North Dakota on Tuesday\, February 21 by donating a percentage of 
 sales. Participating restaurants include:\nBismarck - Pirogue Grille\nDevi
 ls Lake - Ranch Steak House\nDickinson - BrickHouse Grille\nEast Grand For
 ks - Blue Moose Bar & Grill\nFargo - The Boiler Room\nGrafton - Marketplac
 e on 8th\nGrand Forks - Sky's Fine Dining\nJamestown - The Depot Cafe \nMi
 not - 10 North Main\nValley City - City Lights Supper Club\nWahpeton - Pra
 ntes's\n\nPlan 'A Special Night Out' on February 21st and enjoy a great me
 al for a great cause!
DTSTART;TZID=America/Chicago:20170221T000000
DTEND;TZID=America/Chicago:20170221T235900
LOCATION:At Participating Restaurants\, Statewide
SUMMARY:A Special Night Out
END:VEVENT
END:VCALENDAR
