BEGIN:VCALENDAR
VERSION:2.0
PRODID:-//specialolympicsnd.org//NONSGML kigkonsult.se iCalcreator 2.30.10/
 /
CALSCALE:GREGORIAN
METHOD:PUBLISH
UID:42d7fcb1-b6bc-4df8-903e-862cf47258a0
X-WR-CALDESC:Join Special Olympics North Dakota at the Bottineau Winter Par
 k for the 2017 SOND State Winter Games. The multi-sport event held January
  20-21\, 2017\, will feature close to 100 participants from communities ac
 ross North Dakota competing in the sports of Alpine Skiing\, Cross Country
  Skiing\, and Snow Shoe racing.
X-WR-RELCALID:7b9f5ac763186ba93ff25ac4d5a81f2f
X-WR-TIMEZONE:America/Chicago
BEGIN:VTIMEZONE
TZID:America/Chicago
BEGIN:STANDARD
TZNAME:CST
DTSTART:20161106T020000
TZOFFSETFROM:-0500
TZOFFSETTO:-0600
RDATE:20171105T020000
END:STANDARD
BEGIN:DAYLIGHT
TZNAME:CDT
DTSTART:20160313T020000
TZOFFSETFROM:-0600
TZOFFSETTO:-0500
RDATE:20170312T020000
RDATE:20180311T020000
END:DAYLIGHT
END:VTIMEZONE
BEGIN:VEVENT
UID:62ca52cb-98dc-42b5-a3a5-0e2558963044
DTSTAMP:20260423T031129Z
DESCRIPTION:Join Special Olympics North Dakota at the Bottineau Winter Park
  for the 2017 SOND State Winter Games. The multi-sport event held January 
 20-21\, 2017\, will feature close to 100 participants from communities acr
 oss North Dakota competing in the sports of Alpine Skiing\, Cross Country 
 Skiing\, and Snow Shoe racing.
DTSTART;TZID=America/Chicago:20170120T000000
DTEND;TZID=America/Chicago:20170121T235900
LOCATION:Bottineau Winter Park\, Bottineau\, ND
SUMMARY:2017 State Winter Games
END:VEVENT
END:VCALENDAR
