BEGIN:VCALENDAR
VERSION:2.0
PRODID:-//specialolympicsnd.org//NONSGML kigkonsult.se iCalcreator 2.30.10/
 /
CALSCALE:GREGORIAN
METHOD:PUBLISH
UID:0a4e5480-08b3-4dd9-980f-5b61e1b32d76
X-WR-CALDESC:
X-WR-RELCALID:46575977e72e4589a081ad91d12d08fb
X-WR-TIMEZONE:America/Chicago
BEGIN:VTIMEZONE
TZID:America/Chicago
BEGIN:STANDARD
TZNAME:CST
DTSTART:20201101T020000
TZOFFSETFROM:-0500
TZOFFSETTO:-0600
RDATE:20211107T020000
END:STANDARD
BEGIN:DAYLIGHT
TZNAME:CDT
DTSTART:20200308T020000
TZOFFSETFROM:-0600
TZOFFSETTO:-0500
RDATE:20210314T020000
RDATE:20220313T020000
END:DAYLIGHT
END:VTIMEZONE
BEGIN:VEVENT
UID:b1b123a3-05f9-44d2-acc1-e8f92da87656
DTSTAMP:20260425T022920Z
DESCRIPTION:
DTSTART;TZID=America/Chicago:20210227T123000
DTEND;TZID=America/Chicago:20210227T160000
LOCATION:Choice Health & Fitness
SUMMARY:Polar Plunge - Grand Forks
END:VEVENT
END:VCALENDAR
